BEGIN:VCALENDAR
VERSION:2.0
PRODID:-//Episcopal Diocese of Michigan - ECPv6.7.0//NONSGML v1.0//EN
CALSCALE:GREGORIAN
METHOD:PUBLISH
X-ORIGINAL-URL:https://www.edomi.org
X-WR-CALDESC:Events for Episcopal Diocese of Michigan
REFRESH-INTERVAL;VALUE=DURATION:PT1H
X-Robots-Tag:noindex
X-PUBLISHED-TTL:PT1H
BEGIN:VTIMEZONE
TZID:America/Detroit
BEGIN:DAYLIGHT
TZOFFSETFROM:-0500
TZOFFSETTO:-0400
TZNAME:EDT
DTSTART:20260308T070000
END:DAYLIGHT
BEGIN:STANDARD
TZOFFSETFROM:-0400
TZOFFSETTO:-0500
TZNAME:EST
DTSTART:20261101T060000
END:STANDARD
END:VTIMEZONE
BEGIN:VEVENT
DTSTART;TZID=America/Detroit:20260510T080000
DTEND;TZID=America/Detroit:20260510T080000
DTSTAMP:20260422T103256
CREATED:20260202T194546Z
LAST-MODIFIED:20260202T194546Z
UID:10000530-1778400000-1778400000@www.edomi.org
SUMMARY:Bishop's Visit - Canterbury-on-the-Lake\, Waterford
DESCRIPTION:
URL:https://www.edomi.org/event/2026-bishops-visit-canterbury-on-the-lake-waterford/
LOCATION:Canterbury-on-the-Lake\, MI\, United States
CATEGORIES:Featured Events
ATTACH;FMTTYPE=image/png:https://www.edomi.org/wp-content/uploads/2024/09/BIshops-Visit-2024.png
END:VEVENT
BEGIN:VEVENT
DTSTART;TZID=America/Detroit:20260510T090000
DTEND;TZID=America/Detroit:20260510T090000
DTSTAMP:20260422T103256
CREATED:20260202T194805Z
LAST-MODIFIED:20260202T194805Z
UID:10000531-1778403600-1778403600@www.edomi.org
SUMMARY:Bishop's Visit - Nativity\, Bloomfield Twp.
DESCRIPTION:
URL:https://www.edomi.org/event/2026-bishops-visit-nativity-bloomfield-twp/
LOCATION:Nativity\, Bloomfield Twp.\, 21220 W 14 Mile Rd\, Bloomfield Township\, 48301\, United States
CATEGORIES:Featured Events
ATTACH;FMTTYPE=image/png:https://www.edomi.org/wp-content/uploads/2024/09/BIshops-Visit-2024.png
END:VEVENT
END:VCALENDAR